BEGIN:VCALENDAR
VERSION:2.0
PRODID:-//Steel Mentoring for Boys - ECPv6.15.20//NONSGML v1.0//EN
CALSCALE:GREGORIAN
METHOD:PUBLISH
X-ORIGINAL-URL:https://steelmentoringforboys.com
X-WR-CALDESC:Events for Steel Mentoring for Boys
REFRESH-INTERVAL;VALUE=DURATION:PT1H
X-Robots-Tag:noindex
X-PUBLISHED-TTL:PT1H
BEGIN:VTIMEZONE
TZID:UTC
BEGIN:STANDARD
TZOFFSETFROM:+0000
TZOFFSETTO:+0000
TZNAME:UTC
DTSTART:20230101T000000
END:STANDARD
END:VTIMEZONE
BEGIN:VEVENT
DTSTART;TZID=UTC:20251225T080000
DTEND;TZID=UTC:20251231T170000
DTSTAMP:20260420T131847
CREATED:20240708T195800Z
LAST-MODIFIED:20240708T195800Z
UID:1518-1766649600-1767200400@steelmentoringforboys.com
SUMMARY:End of Year Celebration
DESCRIPTION:
URL:https://steelmentoringforboys.com/event/end-of-year-celebration/
END:VEVENT
BEGIN:VEVENT
DTSTART;TZID=UTC:20251111T080000
DTEND;TZID=UTC:20251125T170000
DTSTAMP:20260420T131847
CREATED:20240708T195702Z
LAST-MODIFIED:20240708T195702Z
UID:1516-1762848000-1764090000@steelmentoringforboys.com
SUMMARY:STEM Engagement and Guest Speaker
DESCRIPTION:
URL:https://steelmentoringforboys.com/event/stem-engagement-and-guest-speaker/
END:VEVENT
BEGIN:VEVENT
DTSTART;TZID=UTC:20251001T080000
DTEND;TZID=UTC:20251026T170000
DTSTAMP:20260420T131847
CREATED:20240708T195612Z
LAST-MODIFIED:20240708T195612Z
UID:1514-1759305600-1761498000@steelmentoringforboys.com
SUMMARY:What Does God See in You?
DESCRIPTION:
URL:https://steelmentoringforboys.com/event/what-does-god-see-in-you/
END:VEVENT
BEGIN:VEVENT
DTSTART;TZID=UTC:20250903T080000
DTEND;TZID=UTC:20250920T170000
DTSTAMP:20260420T131847
CREATED:20240708T195524Z
LAST-MODIFIED:20240708T195524Z
UID:1512-1756886400-1758387600@steelmentoringforboys.com
SUMMARY:Financial Planning
DESCRIPTION:
URL:https://steelmentoringforboys.com/event/financial-planning/
END:VEVENT
BEGIN:VEVENT
DTSTART;TZID=UTC:20250801T080000
DTEND;TZID=UTC:20250830T170000
DTSTAMP:20260420T131847
CREATED:20240708T195433Z
LAST-MODIFIED:20240708T195433Z
UID:1510-1754035200-1756573200@steelmentoringforboys.com
SUMMARY:Speed Reading and Guest Speaker
DESCRIPTION:
URL:https://steelmentoringforboys.com/event/speed-reading-and-guest-speaker/
END:VEVENT
BEGIN:VEVENT
DTSTART;TZID=UTC:20250707T080000
DTEND;TZID=UTC:20250729T170000
DTSTAMP:20260420T131847
CREATED:20240708T195248Z
LAST-MODIFIED:20240708T195248Z
UID:1508-1751875200-1753808400@steelmentoringforboys.com
SUMMARY:Support Rare Pearls/Community Service
DESCRIPTION:
URL:https://steelmentoringforboys.com/event/support-rare-pearls-community-service/
END:VEVENT
BEGIN:VEVENT
DTSTART;TZID=UTC:20250628T100000
DTEND;TZID=UTC:20250628T150000
DTSTAMP:20260420T131847
CREATED:20250516T201727Z
LAST-MODIFIED:20250516T201912Z
UID:2101-1751104800-1751122800@steelmentoringforboys.com
SUMMARY:Greater Opportunity
DESCRIPTION:
URL:https://steelmentoringforboys.com/event/greater-opportunity/
LOCATION:EBC Cares Distribution Center\, 800 Great SW Pkwy SW\, Atlanta\, 30336\, Georgia
END:VEVENT
BEGIN:VEVENT
DTSTART;TZID=UTC:20250610T080000
DTEND;TZID=UTC:20250621T170000
DTSTAMP:20260420T131847
CREATED:20240708T195151Z
LAST-MODIFIED:20240708T195151Z
UID:1506-1749542400-1750525200@steelmentoringforboys.com
SUMMARY:Drone Camp and Aviation Career Discussion
DESCRIPTION:
URL:https://steelmentoringforboys.com/event/drone-camp-and-aviation-career-discussion/
END:VEVENT
BEGIN:VEVENT
DTSTART;TZID=UTC:20250511T080000
DTEND;TZID=UTC:20250531T170000
DTSTAMP:20260420T131847
CREATED:20240708T194807Z
LAST-MODIFIED:20240708T200532Z
UID:1504-1746950400-1748710800@steelmentoringforboys.com
SUMMARY:Zip Lining
DESCRIPTION:
URL:https://steelmentoringforboys.com/event/zip-lining/
END:VEVENT
BEGIN:VEVENT
DTSTART;TZID=UTC:20250404T080000
DTEND;TZID=UTC:20250426T170000
DTSTAMP:20260420T131847
CREATED:20240708T194647Z
LAST-MODIFIED:20240708T195047Z
UID:1502-1743753600-1745686800@steelmentoringforboys.com
SUMMARY:Golf
DESCRIPTION:
URL:https://steelmentoringforboys.com/event/golf/
END:VEVENT
BEGIN:VEVENT
DTSTART;TZID=UTC:20250303T080000
DTEND;TZID=UTC:20250320T170000
DTSTAMP:20260420T131847
CREATED:20240708T194552Z
LAST-MODIFIED:20240708T195006Z
UID:1500-1740988800-1742490000@steelmentoringforboys.com
SUMMARY:STEM Activity and Guest Speaker
DESCRIPTION:
URL:https://steelmentoringforboys.com/event/stem-activity-and-guest-speaker/
END:VEVENT
BEGIN:VEVENT
DTSTART;TZID=UTC:20250202T080000
DTEND;TZID=UTC:20250228T170000
DTSTAMP:20260420T131847
CREATED:20240708T193703Z
LAST-MODIFIED:20240708T194907Z
UID:1494-1738483200-1740762000@steelmentoringforboys.com
SUMMARY:Career Discussions with Attorneys and Doctors (If you can see it\, you can achieve it)
DESCRIPTION:
URL:https://steelmentoringforboys.com/event/career-discussions-with-attorneys-and-doctors-if-you-can-see-it-you-can-achieve-it/
END:VEVENT
BEGIN:VEVENT
DTSTART;TZID=UTC:20250101T080000
DTEND;TZID=UTC:20250131T170000
DTSTAMP:20260420T131847
CREATED:20240708T193604Z
LAST-MODIFIED:20240708T203515Z
UID:1492-1735718400-1738342800@steelmentoringforboys.com
SUMMARY:Goal Setting
DESCRIPTION:Include activities such as trips to NASA Rocket Center\, Civil Rights Center\, sports games\, fishing\, Warner Robins Aviation Museum tour\, community service activities\, career exploration\, etiquette training\, and the year-end awards banquet.
URL:https://steelmentoringforboys.com/event/goal-setting/
END:VEVENT
BEGIN:VEVENT
DTSTART;VALUE=DATE:20241231
DTEND;VALUE=DATE:20250101
DTSTAMP:20260420T131847
CREATED:20240906T031336Z
LAST-MODIFIED:20240906T031336Z
UID:2082-1735603200-1735689599@steelmentoringforboys.com
SUMMARY:End of Year Celebration
DESCRIPTION:
URL:https://steelmentoringforboys.com/event/end-of-year-celebration-2/
END:VEVENT
BEGIN:VEVENT
DTSTART;TZID=UTC:20241222T150000
DTEND;TZID=UTC:20241222T190000
DTSTAMP:20260420T131847
CREATED:20241212T123926Z
LAST-MODIFIED:20241212T123926Z
UID:2090-1734879600-1734894000@steelmentoringforboys.com
SUMMARY:Rare Pearls Mentoring & Leadership Program and STEEL Mentoring Program for Boys Holiday & Awards Banquet: “The Gift of Presence”
DESCRIPTION:Join us for the Rare Pearls Mentoring & Leadership Program and STEEL Mentoring Program for Boys Holiday & Awards Banquet: “The Gift of Presence”! Celebrate a year of achievements with a delightful evening of community\, recognition\, and joy. \nEvent Details: \n•Date: Sunday\, December 22\, 2024 \n•Time: 3 PM – 7 PM \n•Location: Municipal Court\, 2083 Fairburn Rd\, Douglasville\, GA 30135 \n•Admission: $20 per adult (18+)\, $10 per child (17 and under) \nHighlights of the Evening: \n•Delectable dinner \n•Live entertainment \n•Red carpet photo opportunities \n•Vendors to explore \nBring your family and friends for a festive evening as we honor the dedication and success of our mentees and mentors. Let’s come together to celebrate the spirit of giving and presence this holiday season. \nReserve your spot now and be part of this memorable celebration!
URL:https://steelmentoringforboys.com/event/rare-pearls-mentoring-leadership-program-and-steel-mentoring-program-for-boys-holiday-awards-banquet-the-gift-of-presence/
LOCATION:Municipal Court\, 2083 Fairburn Rd\, Douglasville\, GA\, 30135\, United States
END:VEVENT
BEGIN:VEVENT
DTSTART;VALUE=DATE:20241115
DTEND;VALUE=DATE:20241116
DTSTAMP:20260420T131847
CREATED:20240906T031309Z
LAST-MODIFIED:20240906T031309Z
UID:2080-1731628800-1731715199@steelmentoringforboys.com
SUMMARY:STEM Engagement and Guest Speaker
DESCRIPTION:
URL:https://steelmentoringforboys.com/event/stem-engagement-and-guest-speaker-2/
END:VEVENT
BEGIN:VEVENT
DTSTART;VALUE=DATE:20241015
DTEND;VALUE=DATE:20241016
DTSTAMP:20260420T131847
CREATED:20240906T031240Z
LAST-MODIFIED:20240906T031240Z
UID:2078-1728950400-1729036799@steelmentoringforboys.com
SUMMARY:Movie: The Forge
DESCRIPTION:
URL:https://steelmentoringforboys.com/event/movie-the-forge/
END:VEVENT
BEGIN:VEVENT
DTSTART;VALUE=DATE:20240915
DTEND;VALUE=DATE:20240916
DTSTAMP:20260420T131847
CREATED:20240906T031209Z
LAST-MODIFIED:20240906T031209Z
UID:2076-1726358400-1726444799@steelmentoringforboys.com
SUMMARY:Financial Planning and Real Estate Investments
DESCRIPTION:
URL:https://steelmentoringforboys.com/event/financial-planning-and-real-estate-investments/
END:VEVENT
END:VCALENDAR